BEGIN:VCALENDAR
VERSION:2.0
PRODID:spatie/icalendar-generator
DESCRIPTION:Events from ORCA Running Club
X-WR-CALDESC:Events from ORCA Running Club
REFRESH-INTERVAL;VALUE=DURATION:PT1440M
X-PUBLISHED-TTL:PT1440M
BEGIN:VTIMEZONE
TZID:Etc/GMT+0
BEGIN:STANDARD
DTSTART:20250613T083000Z
TZOFFSETFROM:+0000
TZOFFSETTO:+0000
END:STANDARD
END:VTIMEZONE
BEGIN:VTIMEZONE
TZID:UTC
BEGIN:STANDARD
DTSTART:20250726T084030Z
TZOFFSETFROM:+0000
TZOFFSETTO:+0000
END:STANDARD
END:VTIMEZONE
BEGIN:VEVENT
UID:16-2
DTSTAMP:20260422T084030Z
SUMMARY:Tuesday Morning Tempo Run
LOCATION:Parksville Curling Club parking lot 220 Corfield St N  Parksville 
 BC V9P 2S5
ORGANIZER;CN=Robert Watt:MAILTO:zettawatt@outlook.com
RRULE:FREQ=WEEKLY;UNTIL=20261229T000000Z
DTSTART;TZID=Etc/GMT+0:20260310T083000
DTEND;TZID=Etc/GMT+0:20260310T100000
X-ALT-DESC;FMTTYPE=TEXT/HTML:
CATEGORIES:Training
URL;VALUE=URI:https://orcarunning.ca/mc-events/tuesday-morning-tempo-run/?m
 c_id=16
METHOD:PUBLISH
END:VEVENT
END:VCALENDAR